BEGIN:VCALENDAR
VERSION:2.0
PRODID:-//ATA - Live Sports Streaming - ECPv6.15.11//NONSGML v1.0//EN
CALSCALE:GREGORIAN
METHOD:PUBLISH
X-WR-CALNAME:ATA - Live Sports Streaming
X-ORIGINAL-URL:https://atasportslive.com
X-WR-CALDESC:Events for ATA - Live Sports Streaming
REFRESH-INTERVAL;VALUE=DURATION:PT1H
X-Robots-Tag:noindex
X-PUBLISHED-TTL:PT1H
BEGIN:VTIMEZONE
TZID:Europe/London
BEGIN:DAYLIGHT
TZOFFSETFROM:+0000
TZOFFSETTO:+0100
TZNAME:BST
DTSTART:20250330T010000
END:DAYLIGHT
BEGIN:STANDARD
TZOFFSETFROM:+0100
TZOFFSETTO:+0000
TZNAME:GMT
DTSTART:20251026T010000
END:STANDARD
BEGIN:DAYLIGHT
TZOFFSETFROM:+0000
TZOFFSETTO:+0100
TZNAME:BST
DTSTART:20260329T010000
END:DAYLIGHT
BEGIN:STANDARD
TZOFFSETFROM:+0100
TZOFFSETTO:+0000
TZNAME:GMT
DTSTART:20261025T010000
END:STANDARD
BEGIN:DAYLIGHT
TZOFFSETFROM:+0000
TZOFFSETTO:+0100
TZNAME:BST
DTSTART:20270328T010000
END:DAYLIGHT
BEGIN:STANDARD
TZOFFSETFROM:+0100
TZOFFSETTO:+0000
TZNAME:GMT
DTSTART:20271031T010000
END:STANDARD
END:VTIMEZONE
BEGIN:VEVENT
DTSTART;TZID=Europe/London:20260411T190000
DTEND;TZID=Europe/London:20260411T220000
DTSTAMP:20260420T001501
CREATED:20260408T194642Z
LAST-MODIFIED:20260408T194642Z
UID:6099-1775934000-1775944800@atasportslive.com
SUMMARY:Race to 21: Naidoo vs Chandiga
DESCRIPTION:A CLASH OF PRECISION\, POWER AND PRIDE! 🎱⚡ \nTwo elite competitors step into the arena as Jeremiah “Ganda Ganda” Naidoo goes head-to-head with Ceaser Chandiga “Da Scorpion” 🦂 in a thrilling Race to 21 showdown. With a $5\,000 prize pot on the line\, every shot counts and every mistake could prove costly. \nThis is a battle of styles and mentality — Naidoo’s calculated control meets Chandiga’s relentless attacking play\, creating a contest where momentum can shift in an instant. Expect intensity\, tactical brilliance\, and clutch performances as both players push to reach the finish line first. \nOnly one will rise. Only one will claim the pot. This is not just a match — it’s a statement. 🔥 \nEvent Details: \n💰 Prize Pot: $5\,000 \n📍 Venue: Mchana Pub\, Nairobi\, Kenya \n📅 Date: 11 April 2026 \n⏰ Time: 19:00 (EAT) \nPrepare for a night of high-pressure pool\, electric atmosphere\, and world-class competition as these two forces collide. 🎯
URL:https://atasportslive.com/upcoming/race-to-21-naidoo-vs-chandiga/
LOCATION:Mchana Pub\, Nairobi\, Kenya
CATEGORIES:One-on-one,Pool
ATTACH;FMTTYPE=image/jpeg:https://atasportslive.com/wp-content/uploads/2026/04/IMG-20260408-WA0003.jpg
END:VEVENT
END:VCALENDAR