BEGIN:VCALENDAR
VERSION:2.0
PRODID:-//ATA - Live Sports Streaming - ECPv6.15.11//NONSGML v1.0//EN
CALSCALE:GREGORIAN
METHOD:PUBLISH
X-WR-CALNAME:ATA - Live Sports Streaming
X-ORIGINAL-URL:https://atasportslive.com
X-WR-CALDESC:Events for ATA - Live Sports Streaming
REFRESH-INTERVAL;VALUE=DURATION:PT1H
X-Robots-Tag:noindex
X-PUBLISHED-TTL:PT1H
BEGIN:VTIMEZONE
TZID:Europe/London
BEGIN:DAYLIGHT
TZOFFSETFROM:+0000
TZOFFSETTO:+0100
TZNAME:BST
DTSTART:20250330T010000
END:DAYLIGHT
BEGIN:STANDARD
TZOFFSETFROM:+0100
TZOFFSETTO:+0000
TZNAME:GMT
DTSTART:20251026T010000
END:STANDARD
BEGIN:DAYLIGHT
TZOFFSETFROM:+0000
TZOFFSETTO:+0100
TZNAME:BST
DTSTART:20260329T010000
END:DAYLIGHT
BEGIN:STANDARD
TZOFFSETFROM:+0100
TZOFFSETTO:+0000
TZNAME:GMT
DTSTART:20261025T010000
END:STANDARD
BEGIN:DAYLIGHT
TZOFFSETFROM:+0000
TZOFFSETTO:+0100
TZNAME:BST
DTSTART:20270328T010000
END:DAYLIGHT
BEGIN:STANDARD
TZOFFSETFROM:+0100
TZOFFSETTO:+0000
TZNAME:GMT
DTSTART:20271031T010000
END:STANDARD
END:VTIMEZONE
BEGIN:VEVENT
DTSTART;VALUE=DATE:20260326
DTEND;VALUE=DATE:20260327
DTSTAMP:20260420T003448
CREATED:20251017T164857Z
LAST-MODIFIED:20260327T184834Z
UID:5512-1774483200-1774569599@atasportslive.com
SUMMARY:Boxing streams coming soon
DESCRIPTION:
URL:https://atasportslive.com/upcoming/boxing-stream/
CATEGORIES:Boxing
ATTACH;FMTTYPE=image/webp:https://atasportslive.com/wp-content/uploads/2025/10/u3247162412_Fill_with_all_black._Do_not_generate_anything_oth_d2a07923-7b5f-435f-aa03-7f0d7c1d56c2_3.webp
END:VEVENT
END:VCALENDAR